

BEGIN:VCALENDAR
VERSION:2.0
METHOD:PUBLISH
BEGIN:VEVENT
UID:202604220168
CLASS:PUBLIC

DTSTART:20260424T113000Z
DTEND:20260424T130000Z
DTSTAMP:20260421T223344Z
SUMMARY:Treffpunkt EMKG 01/2026
LOCATION:Online: WebEx
END:VEVENT
END:VCALENDAR
